BEGIN:VCALENDAR
VERSION:2.0
PRODID:-//Magyar Pedagógiai Társaság honlapja - ECPv5.3.1.1//NONSGML v1.0//EN
CALSCALE:GREGORIAN
METHOD:PUBLISH
X-WR-CALNAME:Magyar Pedagógiai Társaság honlapja
X-ORIGINAL-URL:https://pedagogiai-tarsasag.hu
X-WR-CALDESC:Events for Magyar Pedagógiai Társaság honlapja
BEGIN:VTIMEZONE
TZID:Europe/Budapest
BEGIN:DAYLIGHT
TZOFFSETFROM:+0100
TZOFFSETTO:+0200
TZNAME:CEST
DTSTART:20260329T010000
END:DAYLIGHT
BEGIN:STANDARD
TZOFFSETFROM:+0200
TZOFFSETTO:+0100
TZNAME:CET
DTSTART:20261025T010000
END:STANDARD
END:VTIMEZONE
BEGIN:VEVENT
DTSTART;TZID=Europe/Budapest:20260212T140000
DTEND;TZID=Europe/Budapest:20260212T170000
DTSTAMP:20260419T155745
CREATED:20260128T200206Z
LAST-MODIFIED:20260128T200206Z
UID:19798-1770904800-1770915600@pedagogiai-tarsasag.hu
SUMMARY:CEGAAF projekt: Nemzetközi szakmai minikonferencia
DESCRIPTION:Kedves Kolléga!\n \n\n\nEzúton tisztelettel meghívjuk Önt és Munkatársait a CEGAAF[1] projekt keretében (Erasmus+ projekt szám: 2024-1-SK01-KA210-VET-000249838) megrendezésre kerülő nemzetközi szakmai minikonferenciánkra\, amelyre 2026. február 12-én (csütörtökön) 14:00–17:00 között kerül sor az ELTE PPK épületében (Budapest\, 1075 Budapest\, Kazinczy u. 23–27.). A rendezvény angol nyelvű.\n\n\nA minikonferencia célja\, hogy bemutassuk és összehasonlítsuk a négy részt vevő ország – Csehország\, Magyarország\, Románia és Szlovákia – pálya- és karriertanácsadási szakmai protokolljait\, továbbá ezek kapcsolatát és eltéréseit a legfrissebb finn protokollhoz viszonyítva. Meggyőződésünk\, hogy a nemzeti protokollok összehasonlító elemzése kiemelt jelentőségű a szakma számára: egyrészt rávilágít a minőségfejlesztés szempontjából releváns jó gyakorlatokra és fejlesztendő elemekre\, másrészt támogatja a regionális átjárhatóságot\, az egységes kompetenciakeretek erősítését és a szolgáltatásokhoz való hozzáférés javítását.\n\n\nKiemelten fontosnak tartjuk\, hogy a projekt és a konferencia tanulságai a lehető legszélesebb szakmai körhöz eljussanak: a gyakorló tanácsadókhoz\, intézményvezetőkhöz\, képzőkhöz\, kutatókhoz és döntéshozókhoz egyaránt. Ennek érdekében a rendezvény nemcsak tudásmegosztásra szolgál\, hanem olyan kapcsolódási pontokat is kínál\, amelyek elősegítik a tapasztalatok beépülését a mindennapi gyakorlatba és a képzési-továbbképzési folyamatokba. A program a csatolt mellékletben található.\n\n\nA részvétel díjmentes\, azonban regisztrációhoz kötött. Kérjük\, részvételi szándékát 2026. február 8-ig jelezze az alábbi felületen: link.\n\n\nhttps://docs.google.com/forms/d/e/1FAIpQLSd0kMbiV_xGGc_itY7BgKXVP2b1qIVHBZAEhsdTEGZNYm-sdg/viewform\n\n\n \n\n\nBízunk benne\, hogy jelenlétével megtiszteli rendezvényünket\, és hozzájárul a Közép- és Kelet-európai régió karrier-\, és pályatanácsadási protokolljairól való közös gondolkodásához és fejlesztéséhez.\n\n\n \n\n\nÜdvözlettel\,\n\n\nDr. Borbély-Pecze Tibor Bors\n\n\nelnök\n\n\nMagyar Pedagógiai Társaság – Pályaorientációs Szakosztály\n\n\n \n\n\n[1] A CEGAAF projekt a részt vevő országok szakmai szervezeteinek és kutatóinak együttműködésében valósul meg azzal a céllal\, hogy feltérképezze és összevesse a pálya- és karriertanácsadási protokollokat\, azonosítsa a közös szakmai minimumokat\, valamint ajánlásokat fogalmazzon meg a minőségbiztosítás\, a kompetenciakeretek és a módszertani sztenderdek területén. A mostani esemény a folyamatban lévő kutatás előzetes megállapításait mutatja be\, és lehetőséget teremt a régió szakértőinek érdemi eszmecseréjére.\n\n\n—\n\n\nMagyar Pedagógiai Társaság\n\n\nPályaorientációs Szakosztály
URL:https://pedagogiai-tarsasag.hu/event/cegaaf-projekt-nemzetkozi-szakmai-minikonferencia/
END:VEVENT
END:VCALENDAR