BEGIN:VCALENDAR
VERSION:2.0
PRODID:-//Magyar Pedagógiai Társaság honlapja - ECPv5.3.1.1//NONSGML v1.0//EN
CALSCALE:GREGORIAN
METHOD:PUBLISH
X-WR-CALNAME:Magyar Pedagógiai Társaság honlapja
X-ORIGINAL-URL:https://pedagogiai-tarsasag.hu
X-WR-CALDESC:Events for Magyar Pedagógiai Társaság honlapja
BEGIN:VTIMEZONE
TZID:Europe/Budapest
BEGIN:DAYLIGHT
TZOFFSETFROM:+0100
TZOFFSETTO:+0200
TZNAME:CEST
DTSTART:20230326T010000
END:DAYLIGHT
BEGIN:STANDARD
TZOFFSETFROM:+0200
TZOFFSETTO:+0100
TZNAME:CET
DTSTART:20231029T010000
END:STANDARD
END:VTIMEZONE
BEGIN:VEVENT
DTSTART;TZID=Europe/Budapest:20231124T150000
DTEND;TZID=Europe/Budapest:20231124T170000
DTSTAMP:20260421T110558
CREATED:20231030T180536Z
LAST-MODIFIED:20231030T180536Z
UID:17829-1700838000-1700845200@pedagogiai-tarsasag.hu
SUMMARY:Menedzsment és Módszertan Szakosztály megalakulása\, könyv bemutató.
DESCRIPTION:Kedves Kolléga! \nSok szeretettel meghívunk az Magyar Pedagógiai Társaság \nELTE-PPK Kazinczy utcában\, a 210-es teremben \n2023. november 24. 15:00 h-tól tartandó ülésünkre.\n\n  \n\nNapirendi pontok: \n\n Menedzsment és Módszertan Szakosztály megalakulása \n Radó: OKTATÁSKORMÁNYZÁS JÖVŐJE Könyvbemutatója \n\nNagy szeretettel várunk!
URL:https://pedagogiai-tarsasag.hu/event/menedzsment-es-modszertan-szakosztaly-megalakulasa-konyv-bemutato/
END:VEVENT
END:VCALENDAR